BEGIN:VCALENDAR
VERSION:2.0
PRODID:-//Teaching Medieval Women - ECPv6.15.18//NONSGML v1.0//EN
CALSCALE:GREGORIAN
METHOD:PUBLISH
X-WR-CALNAME:Teaching Medieval Women
X-ORIGINAL-URL:https://teachingmedievalwomen.org
X-WR-CALDESC:Events for Teaching Medieval Women
REFRESH-INTERVAL;VALUE=DURATION:PT1H
X-Robots-Tag:noindex
X-PUBLISHED-TTL:PT1H
BEGIN:VTIMEZONE
TZID:UTC
BEGIN:STANDARD
TZOFFSETFROM:+0000
TZOFFSETTO:+0000
TZNAME:UTC
DTSTART:20230101T000000
END:STANDARD
END:VTIMEZONE
BEGIN:VEVENT
DTSTART;TZID=UTC:20241202T170000
DTEND;TZID=UTC:20241202T193000
DTSTAMP:20260419T204307
CREATED:20241022T084235Z
LAST-MODIFIED:20250326T212822Z
UID:641-1733158800-1733167800@teachingmedievalwomen.org
SUMMARY:British Library Teaching Medieval Women Teacher CPD Event 3: Medieval Women and Religion
DESCRIPTION:British Library Medieval Women Teacher CPD Part 3 – Medieval Women and Religion \nMon 2nd Dec 2024 5pm-7.30pm \nRegister for free on Eventbrite: https://bit.ly/BritishLibraryTeachingMedievalWomenCPD3 \nThe third of four free twilight CPD workshops which are aimed at Key Stage 3\, 4 and 5 teachers and educators who are interested in how we teach and learn about Medieval Women. \nThis series of CPD supports the British Library’s Medieval Women school visits programme. \nThey include free exhibition entry and a guided tour of the British Library’s new exhibition\, ‘Medieval Women: In Their Own Words‘ supported by academic historians and teachers from the Teaching Medieval Women group in conjunction with the British Library learning team. Each session will be based around a series of different themes linked to current medieval topics in secondary education. Exhibition visits will take place between 5pm-6pm. \nThe exhibition highlights the voices and experiences of medieval women\, examining the diverse roles and impact of women during this time\, searching for what was lost or ‘hidden\,’ celebrating their many achievements\, and connecting past lives with the issues and experiences of women today. \nThis first session takes us on a curated tour of select individuals\, texts and objects in the exhibition to explore the theme of medieval women and religion\, to see how women’s lives were empowered\, structured and sometimes circumscribed by the dominant religious cultures of their day. It will highlight the ways in which we can investigate and learn more about how medieval women of different faiths lived and how religion could impact their every-day lives. \nSpeakers include \nDr Natasha Hodgson – Nottingham Trent University \nProfessor Jonathan Phillips – Royal Holloway University of London \nSam Jones – Bolder Academy \nAfter a break for refreshments\, the second part of the workshop will run from 6.15pm to 7.30pm held in the Learning Centre. It will be an interactive\, participatory session with the opportunity to co-create resources with academics and teachers from examples in the exhibition for classroom use. \nRegister for free on Eventbrite: https://bit.ly/BritishLibraryTeachingMedievalWomenCPD3
URL:https://teachingmedievalwomen.org/event/british-library-teaching-medieval-women-teacher-cpd-event-3-medieval-women-and-religion/
LOCATION:British Library\, 96 Euston Road\, London\, NW1 2DB\, United Kingdom
CATEGORIES:CPD
ATTACH;FMTTYPE=image/jpeg:https://teachingmedievalwomen.org/wp-content/uploads/2024/10/https___cdn.evbuc_.com_images_866542919_184130277275_1_original.jpeg
END:VEVENT
END:VCALENDAR