BEGIN:VCALENDAR
VERSION:2.0
PRODID:-//Teaching Medieval Women - ECPv6.15.18//NONSGML v1.0//EN
CALSCALE:GREGORIAN
METHOD:PUBLISH
X-ORIGINAL-URL:https://teachingmedievalwomen.org
X-WR-CALDESC:Events for Teaching Medieval Women
REFRESH-INTERVAL;VALUE=DURATION:PT1H
X-Robots-Tag:noindex
X-PUBLISHED-TTL:PT1H
BEGIN:VTIMEZONE
TZID:UTC
BEGIN:STANDARD
TZOFFSETFROM:+0000
TZOFFSETTO:+0000
TZNAME:UTC
DTSTART:20240101T000000
END:STANDARD
END:VTIMEZONE
BEGIN:VEVENT
DTSTART;TZID=UTC:20250203T170000
DTEND;TZID=UTC:20250203T193000
DTSTAMP:20260419T190920
CREATED:20241022T084502Z
LAST-MODIFIED:20250326T212803Z
UID:643-1738602000-1738611000@teachingmedievalwomen.org
SUMMARY:British Library Teaching Medieval Women Teacher CPD Event 4: Medieval Women and Wealth
DESCRIPTION:British Library Medieval Women Teacher CPD Part 4 – Medieval Women and Wealth \nMon 3rd February 2025 5pm-7.30pm \nRegister for free on Eventbrite: https://bit.ly/BritishLibraryTeachingMedievalWomenCPD4 \nThe last of four free twilight CPD workshops which are aimed at Key Stage 3\, 4 and 5 teachers and educators who are interested in how we teach and learn about Medieval Women. \nThis series of CPD supports our Medieval Women school visits programme. \nThey include free exhibition entry and a guided tour of the British Library’s new exhibition\, ‘Medieval Women: In Their Own Words‘ supported by academic historians and teachers from the Teaching Medieval Women group in conjunction with the British Library learning team. Each session will be based around a series of different themes linked to current medieval topics in secondary education. Exhibition visits will take place between 5pm-6pm. \nThe exhibition highlights the voices and experiences of medieval women\, examining the diverse roles and impact of women during this time\, searching for what was lost or ‘hidden\,’ celebrating their many achievements\, and connecting past lives with the issues and experiences of women today. \nThis fourth session takes us on a curated tour of select individuals\, texts and objects in the exhibition to explore the theme of medieval women and wealth. Queens and noblewomen considerable wealth at their disposal in the medieval period\, and others were traders and astute businesswomen. Queens often managed large estates almost like modern CEOs. This session will explore how we can investigate and learn more about medieval women and their relationship to wealth through a variety of different records and objects from charters and household accounts to art and architecture. \nSpeakers include \nDr Natasha Hodgson – Nottingham Trent University \nEllie Woodacre – University of Winchester \nJake Unwin – Girls’ School Day Trust \nAfter a break for refreshments\, the second part of the workshop will run from 6.15pm to 7.30pm held in the Learning Centre. It will be an interactive\, participatory session with the opportunity to co-create resources with academics and teachers from examples in the exhibition for classroom use. \nRegister for free on Eventbrite: https://bit.ly/BritishLibraryTeachingMedievalWomenCPD4
URL:https://teachingmedievalwomen.org/event/british-library-teaching-medieval-women-teacher-cpd-event-4-medieval-women-and-wealth/
LOCATION:British Library\, 96 Euston Road\, London\, NW1 2DB\, United Kingdom
CATEGORIES:CPD
ATTACH;FMTTYPE=image/jpeg:https://teachingmedievalwomen.org/wp-content/uploads/2024/10/https___cdn.evbuc_.com_images_866542919_184130277275_1_original.jpeg
END:VEVENT
END:VCALENDAR